BEGIN:VCALENDAR
VERSION:2.0
PRODID:-//ChatGPT//ACT Events//EN
CALSCALE:GREGORIAN
METHOD:PUBLISH
BEGIN:VEVENT
UID:eb3b4572-451c-4b0b-8a2d-1b51314bd065@actnews-ch-event
DTSTAMP:20250917T091049Z
DTSTART;TZID=Europe/Zurich:20261115T190000
SUMMARY:The World of Hans Zimmer – A New Dimension
LOCATION:Hallenstadion, Zürich, Switzerland
URL:https://www.actnews.ch/events/the-world-of-hans-zimmer-2026
DESCRIPTION:The success tour 'The World of Hans Zimmer' returns with 'A New Dimension'. Experience iconic film scores live with orchestra and choir. (Time per ACT: 19:00, Hallenstadion Zürich)
END:VEVENT
END:VCALENDAR
