BEGIN:VCALENDAR
VERSION:2.0
PRODID:-//ChatGPT//Event Generator//EN
CALSCALE:GREGORIAN
METHOD:PUBLISH
BEGIN:VEVENT
UID:0dff1b3f-34c7-48bc-85a5-d5716bdcac23@assistant.chat
DTSTAMP:20250919T085623Z
DTSTART:20261129T170000Z
DTEND:20261129T190000Z
SUMMARY:Michael Tsokos 2026 – Phänomen Forensik – Faszination Rechtsmedizin 2.0
LOCATION:Zürich – Hallenstadion
END:VEVENT
BEGIN:VEVENT
UID:764d16de-d62d-4705-bfcb-eaac32d6872a@assistant.chat
DTSTAMP:20250919T085623Z
DTSTART:20261130T183000Z
DTEND:20261130T203000Z
SUMMARY:Michael Tsokos 2026 – Phänomen Forensik – Faszination Rechtsmedizin 2.0
LOCATION:Basel – St. Jakobshalle
END:VEVENT
END:VCALENDAR